BEGIN:VCALENDAR
VERSION:2.0
PRODID:-//Film Access Scotland - ECPv6.0.5//NONSGML v1.0//EN
CALSCALE:GREGORIAN
METHOD:PUBLISH
X-WR-CALNAME:Film Access Scotland
X-ORIGINAL-URL:https://filmaccess.scot
X-WR-CALDESC:Events for Film Access Scotland
REFRESH-INTERVAL;VALUE=DURATION:PT1H
X-Robots-Tag:noindex
X-PUBLISHED-TTL:PT1H
BEGIN:VTIMEZONE
TZID:UTC
BEGIN:STANDARD
TZOFFSETFROM:+0000
TZOFFSETTO:+0000
TZNAME:UTC
DTSTART:20230101T000000
END:STANDARD
END:VTIMEZONE
BEGIN:VEVENT
DTSTART;TZID=UTC:20230905T110000
DTEND;TZID=UTC:20230905T120000
DTSTAMP:20260420T004941
CREATED:20230630T110705Z
LAST-MODIFIED:20230630T110705Z
UID:4209-1693911600-1693915200@filmaccess.scot
SUMMARY:Film Access Coffee Morning: East Central Scotland
DESCRIPTION:More information will be released soon.
URL:https://filmaccess.scot/programme/film-access-coffee-morning-east-central-scotland/
LOCATION:Online
CATEGORIES:Coffee Morning
ATTACH;FMTTYPE=image/png:https://filmaccess.scot/wp-content/uploads/2023/06/September-Coffee-Morning.png
ORGANIZER;CN="Film%20Access%20Scotland":MAILTO:meray.diner@filmaccess.scot
END:VEVENT
BEGIN:VEVENT
DTSTART;TZID=UTC:20230509T100000
DTEND;TZID=UTC:20230509T110000
DTSTAMP:20260420T004941
CREATED:20230330T155724Z
LAST-MODIFIED:20230508T105531Z
UID:4067-1683626400-1683630000@filmaccess.scot
SUMMARY:Film Access Scotland Coffee Morning – Dumfries & Galloway
DESCRIPTION:Join our second online Film Access Coffee Morning\, at 10am on 9 May 2023! \nWe are delighted to welcome Film Access practitioners Colin Tennant (Coulson & Tennant) and Emma Dove (Cample Line)\, who will share insight into their Film Access activities and the challenges working with remote and isolated communities. Amy Marletta (Upland) will also kindly contribute to the conversations about outreach. \nFollowing some short introductions\, our guests will answer questions from participants. This is a space for everyone to chat about potential collaborative activities\, build partnerships\, and discover more about Film Access networks in the Scottish Borders and Dumfries & Galloway. It will also be an opportunity to share stories and challenges from recent Film Access activities. \nPlease share this event with your local community. We want to hear from other freelancers\, youth\, arts and health organisations\, art centres\, or libraries interested in or wanting to be involved in Film Access activities in the Scottish Borders and Dumfries & Galloway. This event is open to everyone working and/or interested in the Film Access sector – we also hope to welcome back some previous participants from the other Scottish regions! \n  \nAbout Colin: \nColin Tennant is one half of the artist partnership Coulson & Tennant. Coulson & Tennant develop projects through a lens-based practice\, combining genres of documentary and fine art. Using visual storytelling\, they create artistic\, documentary and environmental work for a wide range of clients and organisations and their own personal projects. To do this\, they collaborate with many different communities and individuals and draw inspiration from historical\, creative and ecological references. \nAbout Emma: \nEmma Dove is a project coordinator at Cample Line. From their rural base\, they present a year-round programme of exhibitions\, screenings\, talks\, walks\, workshops and events\, sharing the work of contemporary artists\, filmmakers and writers worldwide with their local communities and beyond. \nSince established in late 2016\, they have developed an ambitious public programme and through their public activity they have been able to reach and engage wide-ranging audiences and participants.
URL:https://filmaccess.scot/programme/film-access-scotland-coffee-morning-scottish-borders-and-dumfries-galloway/
LOCATION:Online
CATEGORIES:Coffee Morning
ATTACH;FMTTYPE=image/png:https://filmaccess.scot/wp-content/uploads/2023/03/Eventbrite-Banners-1080-×-1080px-1.png
ORGANIZER;CN="Film%20Access%20Scotland":MAILTO:meray.diner@filmaccess.scot
END:VEVENT
BEGIN:VEVENT
DTSTART;TZID=UTC:20230228T110000
DTEND;TZID=UTC:20230228T120000
DTSTAMP:20260420T004941
CREATED:20230206T143618Z
LAST-MODIFIED:20230206T143734Z
UID:3922-1677582000-1677585600@filmaccess.scot
SUMMARY:Film Access Coffee Morning: Highlands & Islands
DESCRIPTION:Join us for our first online Film Access Coffee Morning\, at 11am on 28 February 2023! We are delighted to welcome Film Access practitioners Screen Argyll and Eden Court\, who will share news on the Film Access activities they work hard on implementing in the Highlands & Islands.   \nFollowing some short introductions\, our guests will answer questions from participants. This is a space for everyone to chat about potential collaborative activities\, build partnerships\, and discover more about Film Access networks in the Highlands & Islands. It will also be an opportunity to share stories and challenges from recent Film Access activities.  \nThis event is open to everyone working and/or interested in the Film Access sector.  \nPlease share this event with your local community. We want to hear from other freelancers\, youth\, arts and health organisations\, art centres\, or libraries that are interested in or want to be involved in Film Access activities in the Highlands & Islands.  \nYou will receive a Zoom link for the event upon registration through Eventbrite: https://www.eventbrite.co.uk/e/coffee-morning-highlands-islands-tickets-535790342337 
URL:https://filmaccess.scot/programme/film-access-coffee-morning-highlands-islands/
LOCATION:Online
CATEGORIES:Coffee Morning
ATTACH;FMTTYPE=image/png:https://filmaccess.scot/wp-content/uploads/2023/02/1.png
ORGANIZER;CN="Film%20Access%20Scotland":MAILTO:meray.diner@filmaccess.scot
END:VEVENT
END:VCALENDAR